BEGIN:VCALENDAR
VERSION:2.0
PRODID:-//ChamberMaster//Event Calendar 2.0//EN
METHOD:PUBLISH
X-PUBLISHED-TTL:P3D
REFRESH-INTERVAL:P3D
CALSCALE:GREGORIAN
BEGIN:VEVENT
DTSTART:20141108T150000Z
DTEND:20141108T180000Z
X-MICROSOFT-CDO-ALLDAYEVENT:FALSE
SUMMARY:Zumbathon - Charity Event to Benefit Shop with a Cop
DESCRIPTION:Zumbathon Fundraiser to benefit the Neosho Shop with a Cop Program!  100% of the proceeds will go to the Shop With a Cop Program!
X-ALT-DESC;FMTTYPE=text/html:Zumbathon Fundraiser to benefit the Neosho Shop with a Cop Program!&nbsp\; 100% of the proceeds will go to the Shop With a Cop Program!<br />\n&nbsp\;
LOCATION:Skateland Neosho
UID:e.2144.76
SEQUENCE:3
DTSTAMP:20260422T122524Z
URL:https://neoshocc.com/events/details/zumbathon-charity-event-to-benefit-shop-with-a-cop-11-08-2014-76
END:VEVENT

END:VCALENDAR
