BEGIN:VCALENDAR
VERSION:2.0
PRODID:-//ChamberMaster//Event Calendar 2.0//EN
METHOD:PUBLISH
X-PUBLISHED-TTL:P3D
REFRESH-INTERVAL:P3D
CALSCALE:GREGORIAN
BEGIN:VEVENT
DTSTART:20190810T140000Z
DTEND:20190810T160000Z
X-MICROSOFT-CDO-ALLDAYEVENT:FALSE
SUMMARY:Youth Cheer Clinic Presented by Neosho Varsity Cheer
DESCRIPTION:Join the Neosho High School Cheerleaders in the High School Gym Saturday\, August 10th for Youth Cheer Clinic. Participants will perform during Wildcat Pride Night on August 17th with the Cheerleaders!
X-ALT-DESC;FMTTYPE=text/html:<span style="color: rgb(29\, 33\, 41)\; font-family: Helvetica\, Arial\, sans-serif\; font-size: 14px\; white-space: pre-wrap\;">Join the Neosho High School Cheerleaders in the High School Gym Saturday\, August 10th for Youth Cheer Clinic. Participants will perform during Wildcat </span><span style="color: rgb(29\, 33\, 41)\; font-family: Helvetica\, Arial\, sans-serif\; font-size: 14px\; white-space: pre-wrap\;">Pride Night on August 17th with the Cheerleaders! </span>
LOCATION:Neosho High School 511 S Neosho Blvd. Neosho\, MO 64850
UID:e.2144.2666
SEQUENCE:3
DTSTAMP:20260421T085356Z
URL:https://neoshocc.com/events/details/youth-cheer-clinic-presented-by-neosho-varsity-cheer-2666
END:VEVENT

END:VCALENDAR
