BEGIN:VCALENDAR
VERSION:2.0
PRODID:-//ChamberMaster//Event Calendar 2.0//EN
METHOD:PUBLISH
X-PUBLISHED-TTL:P3D
REFRESH-INTERVAL:P3D
CALSCALE:GREGORIAN
BEGIN:VEVENT
DTSTART:20211201T150000Z
DTEND:20220121T000000Z
X-MICROSOFT-CDO-ALLDAYEVENT:FALSE
SUMMARY:Work in Progress: Crowder College Art Faculty Exhibition
DESCRIPTION:Work in Progress: Crowder College Art Faculty Exhibition features works by Josh Novak and Josh Knott. The exhibit is open for public viewing in the Longwell Museum December 1 - January 20\, with a reception on December 9 from 5pm-7pm. \n\n\n\nThe Longwell Museum (601 Laclede Ave.) is open Monday - Friday from 9am-6pm. Closed for holidays.\n\n\n\nWhen on campus we ask everyone to wear a mask (we will provide one if needed) and physically distance when possible.
X-ALT-DESC;FMTTYPE=text/html:Work in Progress: Crowder College Art Faculty Exhibition features works by Josh Novak and Josh Knott. The exhibit is open for public viewing in the Longwell Museum December 1 - January 20\, with a reception on December 9 from 5pm-7pm.&nbsp\;<br />\n<br />\nThe Longwell Museum&nbsp\;(601 Laclede Ave.) is open Monday - Friday from 9am-6pm. <em>Closed for holidays.</em><br />\n<br />\nWhen on campus we ask everyone to wear a mask (we will provide one if needed) and physically distance when possible.<br />\n&nbsp\;
LOCATION:The Longwell Museum\, Elsie Plaster Community Center Crowder College (601 Laclede Ave.\, Neosho\, MO 64850)
UID:e.2144.8078
SEQUENCE:3
DTSTAMP:20260424T002645Z
URL:https://neoshocc.com/events/details/work-in-progress-crowder-college-art-faculty-exhibition-8078
END:VEVENT

END:VCALENDAR
