BEGIN:VCALENDAR
VERSION:2.0
PRODID:-//ChamberMaster//Event Calendar 2.0//EN
METHOD:PUBLISH
X-PUBLISHED-TTL:P3D
REFRESH-INTERVAL:P3D
CALSCALE:GREGORIAN
BEGIN:VEVENT
DTSTART:20261017T130000Z
DTEND:20261017T170000Z
X-MICROSOFT-CDO-ALLDAYEVENT:FALSE
SUMMARY:Women Fishing Day
DESCRIPTION:For Ladies aged 18 and older. Registration starts at 8am\, followed by fishing from 9AM-12PM. Coffee and snacks will be provided.
X-ALT-DESC;FMTTYPE=text/html:For Ladies aged 18 and older. Registration starts at 8am\, followed by fishing from 9AM-12PM. Coffee and snacks will be provided.&nbsp\;
LOCATION:Neosho National Fish Hatchery
UID:e.2144.19235
SEQUENCE:3
DTSTAMP:20260422T131707Z
URL:https://neoshocc.com/events/details/women-fishing-day-19235
END:VEVENT

END:VCALENDAR
