BEGIN:VCALENDAR
VERSION:2.0
PRODID:-//ChamberMaster//Event Calendar 2.0//EN
METHOD:PUBLISH
X-PUBLISHED-TTL:P3D
REFRESH-INTERVAL:P3D
CALSCALE:GREGORIAN
BEGIN:VEVENT
DTSTART:20190807T220000Z
DTEND:20190808T000000Z
X-MICROSOFT-CDO-ALLDAYEVENT:FALSE
SUMMARY:Wisper Internet Customer Appreciation Party
DESCRIPTION:Join Wisper for a Customer Appreciation Party! Hang out with the Wisper team\, enjoy FREE food and win prizes. *Including a chance to win a $150 account credit.
X-ALT-DESC;FMTTYPE=text/html:<span style="color: rgb(29\, 33\, 41)\; font-family: Helvetica\, Arial\, sans-serif\; font-size: 14px\; white-space: pre-wrap\;">Join Wisper for a Customer Appreciation Party! Hang out with the Wisper team\, enjoy FREE food and win prizes. *Including a chance to win a $150 account credit. </span>
LOCATION:4743 Gateway Drive Joplin\, MO 64804
UID:e.2144.2675
SEQUENCE:3
DTSTAMP:20260421T084719Z
URL:https://neoshocc.com/events/details/wisper-internet-customer-appreciation-party-2675
END:VEVENT

END:VCALENDAR
