BEGIN:VCALENDAR
VERSION:2.0
PRODID:-//ChamberMaster//Event Calendar 2.0//EN
METHOD:PUBLISH
X-PUBLISHED-TTL:P3D
REFRESH-INTERVAL:P3D
CALSCALE:GREGORIAN
BEGIN:VEVENT
DTSTART:20151229T160000Z
DTEND:20151229T170000Z
X-MICROSOFT-CDO-ALLDAYEVENT:FALSE
SUMMARY:Winter Story TIme- Neosho National Fish Hatchery
DESCRIPTION:Winter Story Time will be Tuesday\, December 29th\, 2015 at 10am at the Neosho National Fish Hatchery.  Pepper Travell\, local author of inspirational literature for young people\, will be reading 2 stories\, one suitable for very young children and another for older children and youths.  Think Aesop's Fable meets Disney.
X-ALT-DESC;FMTTYPE=text/html:Winter Story Time will be Tuesday\, December 29th\, 2015 at 10am at the Neosho National Fish Hatchery.&nbsp\; Pepper Travell\, local author of inspirational literature for young people\, will be reading 2 stories\, one suitable for very young children and another for older children and youths.&nbsp\; Think Aesop&#39\;s Fable meets Disney.
LOCATION:Neosho National Fish Hatchery
UID:e.2144.1527
SEQUENCE:3
DTSTAMP:20260421T173020Z
URL:https://neoshocc.com/events/details/winter-story-time-neosho-national-fish-hatchery-12-29-2015-1527
END:VEVENT

END:VCALENDAR
