BEGIN:VCALENDAR
VERSION:2.0
PRODID:-//ChamberMaster//Event Calendar 2.0//EN
METHOD:PUBLISH
X-PUBLISHED-TTL:P3D
REFRESH-INTERVAL:P3D
CALSCALE:GREGORIAN
BEGIN:VEVENT
DTSTART:20150913T220000Z
DTEND:20150914T010000Z
X-MICROSOFT-CDO-ALLDAYEVENT:FALSE
SUMMARY:Wine in the Garden
DESCRIPTION:Please come and join Neosho Arts Council for Wine in the Garden.
X-ALT-DESC;FMTTYPE=text/html:Please&nbsp\;come and join&nbsp\;Neosho Arts Council for Wine in the Garden.
LOCATION:608 Oak Ridge Dr. Neosho
UID:e.2144.1445
SEQUENCE:3
DTSTAMP:20260421T215428Z
URL:https://neoshocc.com/events/details/wine-in-the-garden-09-13-2015-1445
END:VEVENT

END:VCALENDAR
