BEGIN:VCALENDAR
VERSION:2.0
PRODID:-//ChamberMaster//Event Calendar 2.0//EN
METHOD:PUBLISH
X-PUBLISHED-TTL:P3D
REFRESH-INTERVAL:P3D
CALSCALE:GREGORIAN
BEGIN:VEVENT
DTSTART:20190817T190000Z
DTEND:20190818T020000Z
X-MICROSOFT-CDO-ALLDAYEVENT:FALSE
SUMMARY:Wildcat Pride Night 2019
DESCRIPTION:Come meet the Wildcats\, eat a free hot dog with roasted corn and... WATCH THE SHOW!\n\n\n\nMaster of Ceremonies - Brandi Arthur (NHS Activities Director)\n\n\n\nSponsored by: Competitor's Wearhouse\, First Baptist Church\, Family Market\, First Community Bank\, Neosho Graphics and Mitchell's Drug Stores
X-ALT-DESC;FMTTYPE=text/html:Come meet the Wildcats\, eat a free hot dog with roasted corn and... WATCH THE SHOW!<br />\n<br />\nMaster of Ceremonies - Brandi Arthur (NHS Activities Director)<br />\n<br />\nSponsored by: Competitor&#39\;s Wearhouse\, First Baptist Church\, Family Market\, First Community Bank\, Neosho Graphics and Mitchell&#39\;s Drug Stores
LOCATION:
UID:e.2144.2649
SEQUENCE:3
DTSTAMP:20260421T084641Z
URL:https://neoshocc.com/events/details/wildcat-pride-night-2019-2649
END:VEVENT

END:VCALENDAR
