BEGIN:VCALENDAR
VERSION:2.0
PRODID:-//ChamberMaster//Event Calendar 2.0//EN
METHOD:PUBLISH
X-PUBLISHED-TTL:P3D
REFRESH-INTERVAL:P3D
CALSCALE:GREGORIAN
BEGIN:VEVENT
DTSTART:20140917T000000Z
DTEND:20140917T010000Z
X-MICROSOFT-CDO-ALLDAYEVENT:FALSE
SUMMARY:Welcome Reception for Dr. Rebecca Aleck
DESCRIPTION:Please Join us for a Welcome Reception for Freeman Neosho's newest Physician\, Dr. Rebecca Aleck!  Refreshments will be served!
X-ALT-DESC;FMTTYPE=text/html:<div style="color: gray\;">Please&nbsp\;Join us for a Welcome Reception for Freeman Neosho&#39\;s newest Physician\, Dr. Rebecca Aleck!&nbsp\; Refreshments will be served!</div>\n
LOCATION:The Chamber Office\, inside the Hale McGinty Business Development Center 216 W. Spring Neosho\, MO
UID:e.2144.29
SEQUENCE:3
DTSTAMP:20260422T150354Z
URL:https://neoshocc.com/events/details/welcome-reception-for-dr-rebecca-aleck-09-16-2014-29
END:VEVENT

END:VCALENDAR
