BEGIN:VCALENDAR
VERSION:2.0
PRODID:-//ChamberMaster//Event Calendar 2.0//EN
METHOD:PUBLISH
X-PUBLISHED-TTL:P3D
REFRESH-INTERVAL:P3D
CALSCALE:GREGORIAN
BEGIN:VEVENT
DTSTART:20150129T230000Z
DTEND:20150130T000000Z
X-MICROSOFT-CDO-ALLDAYEVENT:FALSE
SUMMARY:Welcome Reception for Dr. Harold Blankenship
DESCRIPTION:Please join us at the Chamber Office for a Welcome Reception to welcome Dr. Harold Blakenship with Freeman Neosho Hospital.
X-ALT-DESC;FMTTYPE=text/html:Please join us at the Chamber Office for a Welcome Reception to welcome Dr. Harold Blakenship with Freeman Neosho Hospital.
LOCATION:Hale McGinty Business Development Center (Chamber Office) 216 W. Spring Neosho\, MO
UID:e.2144.114
SEQUENCE:3
DTSTAMP:20260422T103914Z
URL:https://neoshocc.com/events/details/welcome-reception-for-dr-harold-blankenship-01-29-2015-114
END:VEVENT

END:VCALENDAR
