BEGIN:VCALENDAR
VERSION:2.0
PRODID:-//ChamberMaster//Event Calendar 2.0//EN
METHOD:PUBLISH
X-PUBLISHED-TTL:P3D
REFRESH-INTERVAL:P3D
CALSCALE:GREGORIAN
BEGIN:VEVENT
DTSTART:20210331T143000Z
DTEND:20210331T163000Z
X-MICROSOFT-CDO-ALLDAYEVENT:FALSE
SUMMARY:Welcome Home Vietnam Veterans
DESCRIPTION:Avalon Hospice of Neosho\n\n\n\nWelcome Home Vietnam Veterans\n\n\n\nAvalon Hospice would like to express appreciation & respect for those Vietnam Veterans who served our nation. Please be our guest stopping by for a cup of coffee & a cookie as well as a warm & heartfelt welcome home.\n\n\n\nPlease come to enjoy a kindness extended to those who served\, through the appreciation of your community. Social distance & Masks.
X-ALT-DESC;FMTTYPE=text/html:Avalon Hospice of Neosho<br />\n<br />\nWelcome Home Vietnam Veterans<br />\n<br />\nAvalon Hospice would like to express appreciation &amp\; respect for those Vietnam Veterans who served our nation. Please be our guest stopping by for a cup of coffee &amp\; a cookie as well as a warm &amp\; heartfelt welcome home.<br />\n<br />\nPlease come to enjoy a kindness extended to those who served\, through the appreciation of your community. Social distance &amp\; Masks.
LOCATION:101 E. Main St. Neosho\, MO 64850
UID:e.2144.7305
SEQUENCE:3
DTSTAMP:20260423T193258Z
URL:https://neoshocc.com/events/details/welcome-home-vietnam-veterans-7305
END:VEVENT

END:VCALENDAR
