BEGIN:VCALENDAR
VERSION:2.0
PRODID:-//ChamberMaster//Event Calendar 2.0//EN
METHOD:PUBLISH
X-PUBLISHED-TTL:P3D
REFRESH-INTERVAL:P3D
CALSCALE:GREGORIAN
BEGIN:VEVENT
DTSTART:20220604T220000Z
DTEND:20220605T030000Z
X-MICROSOFT-CDO-ALLDAYEVENT:FALSE
SUMMARY:Welcome Back to Beaver Lake Scuba and BBQ
DESCRIPTION:It's time for our annual BBQ! Are you ready for SCUBA\, food and friends? Come join the AQUA'rd Turtle family as we kick off the summer with diving\, games and food....so much food!! We will provide grilled meats\, beverages and all the condiments. You bring a side or dessert(or any adult beverages of your choice). There will also be a giveaway for some AQUA'rd merch. Diving will start at 12pm and BBQ will start at 5pm.\n\n \n\nThere is no charge for this event but donations are always accepted and appreciated!\n\n\n\nYou don't have to be a diver to attend this event.
X-ALT-DESC;FMTTYPE=text/html:<div>It&rsquo\;s time for our annual BBQ! Are you ready for SCUBA\, food and friends? Come join the AQUA&rsquo\;rd Turtle family as we kick off the summer with diving\, games and food....so much food!! We will provide grilled meats\, beverages and all the condiments. You bring a side or dessert(or any adult beverages of your choice). There will also be a giveaway for some AQUA&rsquo\;rd merch. Diving will start at 12pm and BBQ will start at 5pm.<br />\n&nbsp\;</div>\n\n<div>There is no charge for this event but donations are always accepted and appreciated!<br />\n<br />\n<strong>You don&#39\;t have to be a diver to attend this event.</strong></div>\n
LOCATION:Beaver Dam Site Campground\, spot #44 Google Map Link: https://goo.gl/maps/9C9LuPDXzypY52V18
UID:e.2144.8284
SEQUENCE:3
DTSTAMP:20260424T104626Z
URL:https://neoshocc.com/events/details/welcome-back-to-beaver-lake-scuba-and-bbq-8284
END:VEVENT

END:VCALENDAR
