BEGIN:VCALENDAR
VERSION:2.0
PRODID:-//ChamberMaster//Event Calendar 2.0//EN
METHOD:PUBLISH
X-PUBLISHED-TTL:P3D
REFRESH-INTERVAL:P3D
CALSCALE:GREGORIAN
BEGIN:VEVENT
DTSTART:20190828T123000Z
DTEND:20190828T140000Z
X-MICROSOFT-CDO-ALLDAYEVENT:FALSE
SUMMARY:Wake Up Wednesday - Community Update
DESCRIPTION:Let's Talk About Neosho - Wake Up Wednesday.   Hear the latest updates from The City of Neosho\, Newton County\, Neosho School District\, Crowder College\, Grow Neosho and the Neosho Area Chamber of Commerce.\n\nAugust featured speaker: Jake Heisten\, CEO - Grow Neosho.
X-ALT-DESC;FMTTYPE=text/html:Let&#39\;s Talk About Neosho - Wake Up Wednesday.&nbsp\; &nbsp\;Hear the latest updates from The City of Neosho\, Newton County\, Neosho School District\, Crowder College\, Grow Neosho and the Neosho Area Chamber of Commerce.<br />\nAugust featured speaker: Jake Heisten\, CEO - Grow Neosho.&nbsp\;
LOCATION:The Neosho Civic 109 W. Main St Neosho\, MO 64850
UID:e.2144.2235
SEQUENCE:3
DTSTAMP:20260421T084707Z
URL:https://neoshocc.com/events/details/wake-up-wednesday-community-update-2235
END:VEVENT

END:VCALENDAR
