BEGIN:VCALENDAR
VERSION:2.0
PRODID:-//ChamberMaster//Event Calendar 2.0//EN
METHOD:PUBLISH
X-PUBLISHED-TTL:P3D
REFRESH-INTERVAL:P3D
CALSCALE:GREGORIAN
BEGIN:VEVENT
DTSTART:20210522T140000Z
DTEND:20210522T220000Z
X-MICROSOFT-CDO-ALLDAYEVENT:FALSE
SUMMARY:W.H. Farm Cafe Craft Show
DESCRIPTION:We have a Fantastic Group of Vendors joining us Saturday!\n\nIn addition to our 17 Indoor Vendors we will have several outdoor!!!\n\n\n\nCome and shop with Kandice's Kreations\, Tupperware\, Color Street\, Avon\, Lularoe!\n\nWe will also have Hanging Baskets\, Fresh Flowers\, Metal Art\, Company!\n\n\n\nW.H. Farm Petting Zoo will be here and Face Painting!!!
X-ALT-DESC;FMTTYPE=text/html:<div>\n<div>We have a Fantastic Group of Vendors joining us Saturday!</div>\n\n<div>In addition to our 17 Indoor Vendors we will have several outdoor!!!</div>\n</div>\n\n<div>\n<div>Come and shop with Kandice&#39\;s Kreations\, Tupperware\, Color Street\, Avon\, Lularoe!</div>\n\n<div>We will also have Hanging Baskets\, Fresh Flowers\, Metal Art\, Company!</div>\n</div>\n\n<div>\n<div>W.H. Farm Petting Zoo will be here and Face Painting!!!</div>\n</div>\n<br />\n&nbsp\;
LOCATION:105 W Market Street Diamond\, MO 64840
UID:e.2144.7400
SEQUENCE:3
DTSTAMP:20260423T162722Z
URL:https://neoshocc.com/events/details/w-h-farm-cafe-craft-show-04-24-2021-7400
END:VEVENT

END:VCALENDAR
