BEGIN:VCALENDAR
VERSION:2.0
PRODID:-//ChamberMaster//Event Calendar 2.0//EN
METHOD:PUBLISH
X-PUBLISHED-TTL:P3D
REFRESH-INTERVAL:P3D
CALSCALE:GREGORIAN
BEGIN:VEVENT
DTSTART:20160319T143000Z
DTEND:20160319T190000Z
X-MICROSOFT-CDO-ALLDAYEVENT:FALSE
SUMMARY:Veteran's Derby- Neosho National Fish Hatchery
DESCRIPTION:VETERAN'S DERBY\n\nTo honor our veterans . . .  March 19th from 9:30-2:00. The event features free fishing for active and retired military complete with a free lunch and live music. Poles and bait provided. No license is required and personal fishing gear and tackle is not allowed to prevent possible contamination of our waters. Fishing will start right after the opening ceremonies and announcements (no later than 10:00). Four trout limit.
X-ALT-DESC;FMTTYPE=text/html:<span style="font-size: 18pt\;"><span style="font-family: trebuchet ms\,sans-serif\;">VETERAN&#39\;S DERBY</span></span><br />\n<span style="font-size: 18pt\;"><span style="font-family: trebuchet ms\,sans-serif\;">To honor our veterans . . .&nbsp\; March 19th from 9:30-2:00. The event features free fishing for active and retired military complete with a free lunch and live music. Poles and bait provided. No license is required and personal fishing gear and tackle is not allowed to prevent possible contamination of our waters. Fishing will start right after the opening ceremonies and announcements (no later than 10:00). Four trout limit.</span></span><br />\n&nbsp\;
LOCATION:Neosho National Fish Hatchery
UID:e.2144.1596
SEQUENCE:3
DTSTAMP:20260421T115218Z
URL:https://neoshocc.com/events/details/veteran-s-derby-neosho-national-fish-hatchery-03-19-2016-1596
END:VEVENT

END:VCALENDAR
