BEGIN:VCALENDAR
VERSION:2.0
PRODID:-//ChamberMaster//Event Calendar 2.0//EN
METHOD:PUBLISH
X-PUBLISHED-TTL:P3D
REFRESH-INTERVAL:P3D
CALSCALE:GREGORIAN
BEGIN:VEVENT
DTSTART:20260516T130000Z
DTEND:20260516T170000Z
X-MICROSOFT-CDO-ALLDAYEVENT:FALSE
SUMMARY:Veteran & Active Duty Fishing Day at Neosho National Fish Hatchery
DESCRIPTION:Registration starts at 8am\, opening ceremonies at 9am\, and fishing until 12pm. This event is open to veterans and active-duty military personnel with proof of service required. A complimentary Lunch will be provided.
X-ALT-DESC;FMTTYPE=text/html:Registration starts at 8am\, opening ceremonies at 9am\, and fishing until 12pm. This event is open to veterans and active-duty military personnel with proof of service required. A complimentary Lunch will be provided.&nbsp\;
LOCATION:Neosho National Fish Hatchery
UID:e.2144.19232
SEQUENCE:3
DTSTAMP:20260420T050552Z
URL:https://neoshocc.com/events/details/veteran-active-duty-fishing-day-at-neosho-national-fish-hatchery-19232
END:VEVENT

END:VCALENDAR
