BEGIN:VCALENDAR
VERSION:2.0
PRODID:-//ChamberMaster//Event Calendar 2.0//EN
METHOD:PUBLISH
X-PUBLISHED-TTL:P3D
REFRESH-INTERVAL:P3D
CALSCALE:GREGORIAN
BEGIN:VEVENT
DTSTART:20220514T130000Z
DTEND:20220514T170000Z
X-MICROSOFT-CDO-ALLDAYEVENT:FALSE
SUMMARY:Veteran & Active Duty Fishing Day
DESCRIPTION:To honor our veterans. Hours: Registrations begin 8am\, Opening Ceremonies 9am\, then free fishing until 12pm. Proof of service required for active retired and honorably discharged military. Fishing tackle and bait provided\, no license or tag required\; four trout limits. Free lunch
X-ALT-DESC;FMTTYPE=text/html:To honor our veterans. Hours: Registrations begin 8am\, Opening Ceremonies 9am\, then free fishing until 12pm. Proof of service required for active retired and honorably discharged military. Fishing tackle and bait provided\, no license or tag required\; four trout limits. Free lunch
LOCATION:Neosho National Fish Hatchery 520 Park St. Neosho Mo 64850
UID:e.2144.8260
SEQUENCE:3
DTSTAMP:20260424T092357Z
URL:https://neoshocc.com/events/details/veteran-active-duty-fishing-day-8260
END:VEVENT

END:VCALENDAR
