BEGIN:VCALENDAR
VERSION:2.0
PRODID:-//ChamberMaster//Event Calendar 2.0//EN
METHOD:PUBLISH
X-PUBLISHED-TTL:P3D
REFRESH-INTERVAL:P3D
CALSCALE:GREGORIAN
BEGIN:VEVENT
DTSTART:20150214T230000Z
DTEND:20150215T030000Z
X-MICROSOFT-CDO-ALLDAYEVENT:FALSE
SUMMARY:Valentine Dinner 2015 - Cafe Angelica
DESCRIPTION:Cafe Angelica is taking reservations for a Valentine Dinner.
X-ALT-DESC;FMTTYPE=text/html:Cafe Angelica is taking reservations for a Valentine Dinner.
LOCATION:Cafe Angelica Downtown Neosho
UID:e.2144.129
SEQUENCE:3
DTSTAMP:20260422T073334Z
URL:https://neoshocc.com/events/details/valentine-dinner-2015-cafe-angelica-02-14-2015-129
END:VEVENT

END:VCALENDAR
