BEGIN:VCALENDAR
VERSION:2.0
PRODID:-//ChamberMaster//Event Calendar 2.0//EN
METHOD:PUBLISH
X-PUBLISHED-TTL:P3D
REFRESH-INTERVAL:P3D
CALSCALE:GREGORIAN
BEGIN:VEVENT
DTSTART:20150502T153000Z
DTEND:20150502T203000Z
X-MICROSOFT-CDO-ALLDAYEVENT:FALSE
SUMMARY:Trinity Circle Horses Healing Hearts - Open House Ribbon Cutting
DESCRIPTION:Join us for Trinity Circle Horses Healing Hearts Open House and Ribbon Cutting/New Member Welcome!
X-ALT-DESC;FMTTYPE=text/html:Join us for Trinity Circle Horses Healing Hearts Open House and Ribbon Cutting/New Member Welcome!
LOCATION:7370 Marten Road Neosho\, MO
UID:e.2144.238
SEQUENCE:3
DTSTAMP:20260422T030212Z
URL:https://neoshocc.com/events/details/trinity-circle-horses-healing-hearts-open-house-ribbon-cutting-05-02-2015-238
END:VEVENT

END:VCALENDAR
