BEGIN:VCALENDAR
VERSION:2.0
PRODID:-//ChamberMaster//Event Calendar 2.0//EN
METHOD:PUBLISH
X-PUBLISHED-TTL:P3D
REFRESH-INTERVAL:P3D
CALSCALE:GREGORIAN
BEGIN:VEVENT
DTSTART:20141031T190000Z
DTEND:20141031T210000Z
X-MICROSOFT-CDO-ALLDAYEVENT:FALSE
SUMMARY:Trail of Treats - Area Neosho Businesses
DESCRIPTION:The Trail of Treats will take place all around Neosho from 2 pm - 4pm.  Kids are invited to dress up and stop by local businesses for a safe and fun Halloween Activity!  See the special insert in the Neosho Daily News to find out all the locations!  Stop by the Neosho Daily News and have your picture taken for the paper!  Don't forget to make a stop at the Neosho Area Chamber of Commerce!
X-ALT-DESC;FMTTYPE=text/html:The Trail of Treats will take place all around Neosho from 2 pm - 4pm.&nbsp\; Kids are invited to dress up and stop by local businesses for a safe and fun Halloween Activity!&nbsp\; See the special insert in the Neosho Daily News to find out all the locations!&nbsp\; Stop by the Neosho Daily News and have your picture taken for the paper!&nbsp\; Don&#39\;t forget to make a stop at the Neosho Area Chamber of Commerce!
LOCATION:Neosho
UID:e.2144.71
SEQUENCE:3
DTSTAMP:20260422T134622Z
URL:https://neoshocc.com/events/details/trail-of-treats-area-neosho-businesses-10-31-2014-71
END:VEVENT

END:VCALENDAR
