BEGIN:VCALENDAR
VERSION:2.0
PRODID:-//ChamberMaster//Event Calendar 2.0//EN
METHOD:PUBLISH
X-PUBLISHED-TTL:P3D
REFRESH-INTERVAL:P3D
CALSCALE:GREGORIAN
BEGIN:VEVENT
DTSTART:20211029T200000Z
DTEND:20211029T220000Z
X-MICROSOFT-CDO-ALLDAYEVENT:FALSE
SUMMARY:Trail of Treats
DESCRIPTION:The Neosho Daily News is proud to be organizing this year's Trail of Treats\, set for Friday\, Oct. 29\, from 3-5. A map of participating merchants will be published in our Tuesday\, Oct. 26\, issue.
X-ALT-DESC;FMTTYPE=text/html:<span style="color: rgb(5\, 5\, 5)\; font-family: &quot\;Segoe UI Historic&quot\;\, &quot\;Segoe UI&quot\;\, Helvetica\, Arial\, sans-serif\; font-size: 15px\;">The Neosho Daily News is proud to be organizing this year&#39\;s Trail of Treats\, set for Friday\, Oct. 29\, from 3-5. A map of participating merchants will be published in our Tuesday\, Oct. 26\, issue.</span>
LOCATION:Neosho Area Businesses
UID:e.2144.7902
SEQUENCE:3
DTSTAMP:20260423T224828Z
URL:https://neoshocc.com/events/details/trail-of-treats-7902
END:VEVENT

END:VCALENDAR
