BEGIN:VCALENDAR
VERSION:2.0
PRODID:-//ChamberMaster//Event Calendar 2.0//EN
METHOD:PUBLISH
X-PUBLISHED-TTL:P3D
REFRESH-INTERVAL:P3D
CALSCALE:GREGORIAN
BEGIN:VEVENT
DTSTART:20260502T180000Z
DTEND:20260502T190000Z
X-MICROSOFT-CDO-ALLDAYEVENT:FALSE
SUMMARY:To Fill the Empty Dinner Pail
DESCRIPTION:George W. Carver was committed to helping people have healthy meals. Join us to learn how Carver strived to "fill the empty dinner pail" and fight hunger and malnutrition through education and innovation.
X-ALT-DESC;FMTTYPE=text/html:George W. Carver was committed to&nbsp\;helping people have healthy meals.&nbsp\;Join us to learn how Carver strived to&nbsp\;&ldquo\;fill the empty dinner pail&rdquo\; and fight&nbsp\;hunger and malnutrition through&nbsp\;education and innovation.
LOCATION:George Washington Carver NM 5646 Carver Rd | Diamond\, MO 64840
UID:e.2144.19796
SEQUENCE:3
DTSTAMP:20260421T075725Z
URL:https://neoshocc.com/events/details/to-fill-the-empty-dinner-pail-19796
END:VEVENT

END:VCALENDAR
