BEGIN:VCALENDAR
VERSION:2.0
PRODID:-//ChamberMaster//Event Calendar 2.0//EN
METHOD:PUBLISH
X-PUBLISHED-TTL:P3D
REFRESH-INTERVAL:P3D
CALSCALE:GREGORIAN
BEGIN:VEVENT
DTSTART:20220419T213000Z
DTEND:20220420T000000Z
X-MICROSOFT-CDO-ALLDAYEVENT:FALSE
SUMMARY:Theatre Audition Workshop - Kids & Teens
DESCRIPTION:Theatre Audition Workshop\n\nwith NaTasha O'Brien-Davies\n\n\n\nWhen: April 19\, 2022\n\nWho: Ages 7-12 at 4:30pm\n\n         Ages 13-18 at 6:00pm\n\nCost: $5 per student\n\nWhere: 216 West Spring Street\, Neosho\, MO 64850\n\n\n\nJoin professional actor and teaching artist NaTasha O'Brien-Davies and learn how to prepare and audition like a pro! NaTasha is an energetic and experienced instructor in theatre. She's worked professionally in the theatre and acting industry and is currently teaching on the college level.\n\n\n\nEach session is designed specifically for the target age group. This workshop will engage young actors and prepare them for the experience of auditioning.\n\n\n\nTopics covered include:\n\n	How to prepare for an audition\n	Creating the Actor Resume\n	Audition Day- Straight Play\n	Audition Day- Musical Theatre\n	Auditioning for Camera-Zoom Guest\n	Plus Q&A\n\n\n\nParents are welcome to stay and learn right along with their child!
X-ALT-DESC;FMTTYPE=text/html:<strong>Theatre Audition Workshop</strong><br />\nwith NaTasha O&rsquo\;Brien-Davies<br />\n<br />\nWhen: April 19\, 2022<br />\nWho: Ages 7-12 at 4:30pm<br />\n&nbsp\;&nbsp\;&nbsp\;&nbsp\;&nbsp\;&nbsp\;&nbsp\;&nbsp\; Ages 13-18 at 6:00pm<br />\nCost: $5 per student<br />\nWhere: 216 West Spring Street\, Neosho\, MO 64850<br />\n<br />\nJoin professional actor and teaching artist NaTasha O&#39\;Brien-Davies and learn how to prepare and audition like a pro! NaTasha is an energetic and experienced instructor in theatre. She&#39\;s worked professionally in the theatre and acting industry and is currently teaching on the college level.<br />\n<br />\nEach session is designed specifically for the target age group. This workshop will engage young actors and prepare them for the experience of auditioning.<br />\n<br />\nTopics covered include:\n<ul>\n	<li>How to prepare for an audition</li>\n	<li>Creating the Actor Resume</li>\n	<li>Audition Day- Straight Play</li>\n	<li>Audition Day- Musical Theatre</li>\n	<li>Auditioning for Camera-Zoom Guest</li>\n	<li>Plus Q&amp\;A</li>\n</ul>\n<br />\nParents are welcome to stay and learn right along with their child!
LOCATION:216 West Spring Street\, Neosho\, MO 64850
UID:e.2144.8240
SEQUENCE:3
DTSTAMP:20260424T060214Z
URL:https://neoshocc.com/events/details/theatre-audition-workshop-kids-teens-8240
END:VEVENT

END:VCALENDAR
