BEGIN:VCALENDAR
VERSION:2.0
PRODID:-//ChamberMaster//Event Calendar 2.0//EN
METHOD:PUBLISH
X-PUBLISHED-TTL:P3D
REFRESH-INTERVAL:P3D
CALSCALE:GREGORIAN
BEGIN:VEVENT
DTSTART:20230325T000000Z
DTEND:20230325T020000Z
X-MICROSOFT-CDO-ALLDAYEVENT:FALSE
SUMMARY:The Second City: Swipes Right
DESCRIPTION:Connect2Culture presents The Second City Swipes Right: The Incomplete Guide to the Ultimate Date Night on Friday\, March 24\, 7:00pm at the Harry M. Cornell Arts & Entertainment Complex! Join The Second City comedians as they annihilate everything that turns us on and off about love\, dating\, relationships\, and everything else in-between the sheets. Tickets are available at connect2culture.org/tickets or (417) 501-5550.
X-ALT-DESC;FMTTYPE=text/html:Connect2Culture presents The Second City Swipes Right: The Incomplete Guide to the Ultimate Date Night on Friday\, March 24\, 7:00pm at the Harry M. Cornell Arts &amp\; Entertainment Complex! Join The Second City comedians as they annihilate everything that turns us on&mdash\;and off&mdash\;about love\, dating\, relationships\, and everything else in-between the sheets. Tickets are available at connect2culture.org/tickets or (417) 501-5550.
LOCATION:Harry M. Cornell Arts & Entertainment Complex located at 212 West 7th Street\, Joplin\, MO
UID:e.2144.9109
SEQUENCE:3
DTSTAMP:20260426T003728Z
URL:https://neoshocc.com/events/details/the-second-city-swipes-right-9109
END:VEVENT

END:VCALENDAR
