BEGIN:VCALENDAR
VERSION:2.0
PRODID:-//ChamberMaster//Event Calendar 2.0//EN
METHOD:PUBLISH
X-PUBLISHED-TTL:P3D
REFRESH-INTERVAL:P3D
CALSCALE:GREGORIAN
BEGIN:VEVENT
DTSTART;VALUE=DATE:20190502
DTEND;VALUE=DATE:20190503
TRANSP:TRANSPARENT
X-MICROSOFT-CDO-ALLDAYEVENT:TRUE
SUMMARY:The National Day of Prayer
DESCRIPTION:The National Day of Prayer\n\nPray for America\n\nJoin the citizens of Newton County for the National Day of Prayer\n\nLove One Another\, Just as I Have Loved You. John 13:34\n\n#LOVE1ANOTHER\n\nFor more information: KNEO Radio\n\n417-451-5636 or www.kneo.org\n\nNational Day of Prayer.org
X-ALT-DESC;FMTTYPE=text/html:The National Day of Prayer<br />\nPray for America<br />\nJoin the citizens of Newton County for the National Day of Prayer<br />\nLove One Another\, Just as I Have Loved You. John 13:34<br />\n#LOVE1ANOTHER<br />\nFor more information: KNEO Radio<br />\n417-451-5636 or <a href="http://www.kneo.org">www.kneo.org</a><br />\nNational Day of Prayer.org<br />\n&nbsp\;
LOCATION:On the Newton County Courthouse Lawn on the Neosho Square
UID:e.2144.2465
SEQUENCE:3
DTSTAMP:20260424T003150Z
URL:https://neoshocc.com/events/details/the-national-day-of-prayer-2465
END:VEVENT

END:VCALENDAR
