BEGIN:VCALENDAR
VERSION:2.0
PRODID:-//ChamberMaster//Event Calendar 2.0//EN
METHOD:PUBLISH
X-PUBLISHED-TTL:P3D
REFRESH-INTERVAL:P3D
CALSCALE:GREGORIAN
BEGIN:VEVENT
DTSTART:20260530T180000Z
DTEND:20260530T190000Z
X-MICROSOFT-CDO-ALLDAYEVENT:FALSE
SUMMARY:The Jesup Wagon
DESCRIPTION:A ranger-led program starring Tuskegee Institute's innovative school on wheels
X-ALT-DESC;FMTTYPE=text/html:A ranger-led program starring Tuskegee Institute&#39\;s innovative school on wheels
LOCATION:George Washington Carver NM 5646 Carver Rd. Diamond MO 64840
UID:e.2144.19802
SEQUENCE:3
DTSTAMP:20260422T112245Z
URL:https://neoshocc.com/events/details/the-jesup-wagon-05-30-2026-19802
END:VEVENT

END:VCALENDAR
