BEGIN:VCALENDAR
VERSION:2.0
PRODID:-//ChamberMaster//Event Calendar 2.0//EN
METHOD:PUBLISH
X-PUBLISHED-TTL:P3D
REFRESH-INTERVAL:P3D
CALSCALE:GREGORIAN
BEGIN:VEVENT
DTSTART:20250927T010000Z
DTEND:20250927T040000Z
X-MICROSOFT-CDO-ALLDAYEVENT:FALSE
SUMMARY:The Grays! Live music at Osage Spring
DESCRIPTION:The Grays are film\, music and art displayed on screens\, stages\, recordings\, canvas.
X-ALT-DESC;FMTTYPE=text/html:<span style="background-color:rgb(107\, 39\, 38)\; color:rgb(220\, 73\, 71)\; font-family:acumin-pro\; font-size:16.16px">The Grays are film\, music and art displayed on screens\, stages\, recordings\, canvas.</span>
LOCATION:200 e Spring Street Neosho\, MO 64850
UID:e.2144.18493
SEQUENCE:3
DTSTAMP:20260424T043249Z
URL:https://neoshocc.com/events/details/the-grays-live-music-at-osage-spring-18493
END:VEVENT

END:VCALENDAR
