BEGIN:VCALENDAR
VERSION:2.0
PRODID:-//ChamberMaster//Event Calendar 2.0//EN
METHOD:PUBLISH
X-PUBLISHED-TTL:P3D
REFRESH-INTERVAL:P3D
CALSCALE:GREGORIAN
BEGIN:VEVENT
DTSTART:20190814T140000Z
DTEND:20190814T200000Z
X-MICROSOFT-CDO-ALLDAYEVENT:FALSE
SUMMARY:Teen Defensive Driving Course
DESCRIPTION:Teens ages 14 and up are encouraged to take this National Safety Council Defensive Driving Course and learn:\n\n\n\n  State and Local Traffic Laws\n\n  Distracted Driving Prevention \n\n  Safe Driving Practices\n\n   Plus More!\n\n\n\nLength of Course: \n\nThe Class will be a total of 6 hours.\n\n\n\nWhat is included in the course?\n\nThe class fee covers:\n\n  Training from a National Safety Council certified instructor\n\n  Class Materials\n\n  Completion Certificate\n\n  Light Lunch\, drinks and snacks\n\n\n\n\n\nFrequently Asked Questions\n\n\n\nWhat is your refund policy? \n\nAny cancellations less than 7 days prior to the event will not receive a refund.\n\n\n\nWhen do I receive my certificate of completion? \n\nParticipants will receive their certificate of completion on the day of the class.\n\n\n\nWill taking this course give me a discount on my auto insurance?\n\nPossibly. We highly encourage you to contact your insurance agent directly and ask if it will qualify the driver for a discount.\n\n\n\nWhat does it mean by the introductory offer? \n\nFor a short-time\, we will be offering a reduced rate for attendees. If you are interested don't wait\, prices will increase soon!\n\n\n\nDo you have questions we haven't answered?\n\nCall us anytime at 417-782-9899 Mon-Thurs between 8:30 am and 5:00 pm\, We would love to answer your questions.
X-ALT-DESC;FMTTYPE=text/html:Teens ages 14 and up are encouraged to take this National Safety Council Defensive Driving Course and learn:<br />\n<br />\n&bull\; State and Local Traffic Laws<br />\n&bull\; Distracted Driving Prevention&nbsp\;<br />\n&bull\; Safe Driving Practices<br />\n&nbsp\; &nbsp\;Plus More!<br />\n<br />\nLength of Course:&nbsp\;<br />\nThe Class will be a total of 6 hours.<br />\n<br />\nWhat is included in the course?<br />\nThe class fee covers:<br />\n&bull\; Training from a National Safety Council certified instructor<br />\n&bull\; Class Materials<br />\n&bull\; Completion Certificate<br />\n&bull\; Light Lunch\, drinks and snacks<br />\n<br />\n<br />\nFrequently Asked Questions<br />\n<br />\nWhat is your refund policy?&nbsp\;<br />\nAny cancellations less than 7 days prior to the event will not receive a refund.<br />\n<br />\nWhen do I receive my certificate of completion?&nbsp\;<br />\nParticipants will receive their certificate of completion on the day of the class.<br />\n<br />\nWill taking this course give me a discount on my auto insurance?<br />\nPossibly. We highly encourage you to contact your insurance agent directly and ask if it will qualify the driver for a discount.<br />\n<br />\nWhat does it mean by the introductory offer?&nbsp\;<br />\nFor a short-time\, we will be offering a reduced rate for attendees. If you are interested don&rsquo\;t wait\, prices will increase soon!<br />\n<br />\nDo you have questions we haven&rsquo\;t answered?<br />\nCall us anytime at 417-782-9899 Mon-Thurs between 8:30 am and 5:00 pm\, We would love to answer your questions.&nbsp\;&nbsp\;
LOCATION:The Alliance of SWMO 1601 South Wall Avenue Joplin\, Missouri 64801
UID:e.2144.2663
SEQUENCE:3
DTSTAMP:20260421T084914Z
URL:https://neoshocc.com/events/details/teen-defensive-driving-course-2663
END:VEVENT

END:VCALENDAR
