BEGIN:VCALENDAR
VERSION:2.0
PRODID:-//ChamberMaster//Event Calendar 2.0//EN
METHOD:PUBLISH
X-PUBLISHED-TTL:P3D
REFRESH-INTERVAL:P3D
CALSCALE:GREGORIAN
BEGIN:VEVENT
DTSTART:20160426T210000Z
DTEND:20160426T230000Z
X-MICROSOFT-CDO-ALLDAYEVENT:FALSE
SUMMARY:Tasting Tuesday Happy Hour - Oak Pointe Assisted Living & Memory Care
DESCRIPTION:Please come to network with other Healthcare Professionals\, sample amazing food and enjoy a beverage while you tour the beautiful new senior community.
X-ALT-DESC;FMTTYPE=text/html:Please come to network with other Healthcare Professionals\, sample amazing food and enjoy a beverage while you tour the beautiful new senior community.
LOCATION:Oak Pointe Of Neosho 2601 Oak Ridge Extension Neosho\, MO 64850
UID:e.2144.1644
SEQUENCE:3
DTSTAMP:20260421T102446Z
URL:https://neoshocc.com/events/details/tasting-tuesday-happy-hour-oak-pointe-assisted-living-memory-care-04-26-2016-1644
END:VEVENT

END:VCALENDAR
