BEGIN:VCALENDAR
VERSION:2.0
PRODID:-//ChamberMaster//Event Calendar 2.0//EN
METHOD:PUBLISH
X-PUBLISHED-TTL:P3D
REFRESH-INTERVAL:P3D
CALSCALE:GREGORIAN
BEGIN:VEVENT
DTSTART:20150922T230000Z
DTEND:20150923T020000Z
X-MICROSOFT-CDO-ALLDAYEVENT:FALSE
SUMMARY:Taste of Home Cooking School 2015
DESCRIPTION:Tickets now on sale!\n\nGeneral Admission $13\n\nVIP $35 (Preferred seating\, early shopping with our vendors\, Meet & Greet with Culinary Specialist\, & a hardback cookbook)
X-ALT-DESC;FMTTYPE=text/html:Tickets now on sale!<br />\nGeneral Admission $13<br />\nVIP $35 (Preferred seating\, early shopping with our vendors\, Meet &amp\; Greet with Culinary Specialist\, &amp\; a hardback cookbook)
LOCATION:The Civic - Neosho\, MO
UID:e.2144.429
SEQUENCE:3
DTSTAMP:20260421T202046Z
URL:https://neoshocc.com/events/details/taste-of-home-cooking-school-2015-09-22-2015-429
END:VEVENT

END:VCALENDAR
