BEGIN:VCALENDAR
VERSION:2.0
PRODID:-//ChamberMaster//Event Calendar 2.0//EN
METHOD:PUBLISH
X-PUBLISHED-TTL:P3D
REFRESH-INTERVAL:P3D
CALSCALE:GREGORIAN
BEGIN:VEVENT
DTSTART:20140909T233000Z
DTEND:20140910T020000Z
X-MICROSOFT-CDO-ALLDAYEVENT:FALSE
SUMMARY:Taste of Home Cooking School
DESCRIPTION:On September 9\, 2014\, the Neosho Area Chamber of Commerce and First Community Bank present the country's favorite LIVE cooking show with Culinary Specialist\, Jamie Dunn at The Civic in Neosho at 6:30 p.m. A limited number of VIP tickets are available. VIP ticket holders receive: early entry at 4:00 p.m.\, reserved front rows of seating\, cookbook\, Taste of Neosho pre-show\, exclusive shopping in the Exhibitor's Expo\, and a Meet & Greet session with the Culinary Specialist. Tickets purchased online will be available for pickup at the Chamber Office until Monday 9/8/14 or will be held at the door for pickup the night of the show.
X-ALT-DESC;FMTTYPE=text/html:On September 9\, 2014\, the Neosho Area Chamber of Commerce and First Community Bank present the country&rsquo\;s favorite LIVE cooking show with Culinary Specialist\, Jamie Dunn at The Civic in Neosho at&nbsp\;6:30 p.m. A limited number of VIP tickets are available. VIP ticket holders receive: early entry at 4:00 p.m.\, reserved front rows of seating\, cookbook\, Taste of Neosho pre-show\, exclusive shopping in the Exhibitor&#39\;s Expo\, and a Meet &amp\; Greet session with the Culinary Specialist. Tickets purchased online will be available for pickup at the Chamber Office until Monday 9/8/14 or will be held at the door for pickup the night of the show.
LOCATION:The Civic Center 109 W. Main Street Neosho\, MO 64850
UID:e.2144.12
SEQUENCE:3
DTSTAMP:20260422T163852Z
URL:https://neoshocc.com/events/details/taste-of-home-cooking-school-09-09-2014-12
END:VEVENT

END:VCALENDAR
