BEGIN:VCALENDAR
VERSION:2.0
PRODID:-//ChamberMaster//Event Calendar 2.0//EN
METHOD:PUBLISH
X-PUBLISHED-TTL:P3D
REFRESH-INTERVAL:P3D
CALSCALE:GREGORIAN
BEGIN:VEVENT
DTSTART:20150306T180000Z
DTEND:20150308T170000Z
X-MICROSOFT-CDO-ALLDAYEVENT:FALSE
SUMMARY:Tarzan Zerbini Circus "Spectac!" - Benefitting Ronald McDonald House
DESCRIPTION:For the 1st time in fifteen years the Tarzan Zerbini Circus is coming to Joplin March 6th\, 7th\, & 8th for six shows.  Exit 4 just east of KOA.\n\nShow will include the World Famous Wallendas on the highwire flying trapeze\, a motorcycle globe with 3 young riders surrounded in fire\, elephants\, horses\, aerialists\, acrobats and clowns.  This is the 251st continuous year of the Zerbini family training animals and producing circuses world-wide.\n\nA portion of the proceeds goes to your local Ronald McDonald House.  For info or online tickets go to www.joplincircus.com or call 888-959-9320.\n\nTickets also available at your local Southwest Missouri Bank.
X-ALT-DESC;FMTTYPE=text/html:For the 1st time in fifteen years the Tarzan Zerbini Circus is coming to Joplin March 6th\, 7th\, &amp\; 8th for six shows.&nbsp\; Exit 4 just east of KOA.<br />\nShow will include the World Famous Wallendas on the highwire flying trapeze\, a motorcycle globe with 3 young riders surrounded in fire\, elephants\, horses\, aerialists\, acrobats and clowns.&nbsp\; This is the 251st continuous year of the Zerbini family training animals and producing circuses world-wide.<br />\nA portion of the proceeds goes to your local Ronald McDonald House.&nbsp\; For info or online tickets go to <a href="http://www.joplincircus.com">www.joplincircus.com</a> or call 888-959-9320.<br />\nTickets also available at your local Southwest Missouri Bank.<br />\n&nbsp\;
LOCATION:I-44 Exit 4 Just East if Petro Under the Big TOP!
UID:e.2144.132
SEQUENCE:3
DTSTAMP:20260422T055920Z
URL:https://neoshocc.com/events/details/tarzan-zerbini-circus-spectac-benefitting-ronald-mcdonald-house-03-06-2015-132
END:VEVENT

END:VCALENDAR
