BEGIN:VCALENDAR
VERSION:2.0
PRODID:-//ChamberMaster//Event Calendar 2.0//EN
METHOD:PUBLISH
X-PUBLISHED-TTL:P3D
REFRESH-INTERVAL:P3D
CALSCALE:GREGORIAN
BEGIN:VEVENT
DTSTART:20160305T180000Z
DTEND:20160305T200000Z
X-MICROSOFT-CDO-ALLDAYEVENT:FALSE
SUMMARY:Tarzan Zerbini Circus
DESCRIPTION:Tarzan Zerbini Circus\n\nBenefiting the Ronald McDonald House of the Four States
X-ALT-DESC;FMTTYPE=text/html:Tarzan Zerbini Circus<br />\nBenefiting the Ronald McDonald House of the Four States
LOCATION:I-44 Exit 4 Under The Big Top
UID:e.2144.1609
SEQUENCE:3
DTSTAMP:20260421T114626Z
URL:https://neoshocc.com/events/details/tarzan-zerbini-circus-03-05-2016-1609
END:VEVENT

END:VCALENDAR
