BEGIN:VCALENDAR
VERSION:2.0
PRODID:-//ChamberMaster//Event Calendar 2.0//EN
METHOD:PUBLISH
X-PUBLISHED-TTL:P3D
REFRESH-INTERVAL:P3D
CALSCALE:GREGORIAN
BEGIN:VEVENT
DTSTART:20141028T230000Z
DTEND:20141029T010000Z
X-MICROSOFT-CDO-ALLDAYEVENT:FALSE
SUMMARY:Talkington Foundation Recovery Center Donor Appreciation Dinner
DESCRIPTION:The Annual Talkington Foundation Recovery Center Donor Appreciation Dinner will be held Tuesday\, October 28th\, 2014 at the Neosho Civic Center.  We invite you to make a Donation to the Foundation via this secure web site.  Just click the "Register Now" button to complete the information.  This system will automatically send you a receipt via email.  THANK YOU!
X-ALT-DESC;FMTTYPE=text/html:<div style="color: gray\;">The Annual Talkington Foundation Recovery Center Donor Appreciation Dinner will be held Tuesday\, October 28th\, 2014 at the Neosho Civic Center.&nbsp\; We invite you to make a Donation to the Foundation via this secure web site.&nbsp\; Just click the &quot\;Register Now&quot\; button to complete the information.&nbsp\; This system will automatically send you a receipt via email.&nbsp\; THANK YOU!</div>\n
LOCATION:The Neosho Civic 109 West Main Neosho\, MO 64850
UID:e.2144.58
SEQUENCE:3
DTSTAMP:20260422T133420Z
URL:https://neoshocc.com/events/details/talkington-foundation-recovery-center-donor-appreciation-dinner-10-28-2014-58
END:VEVENT

END:VCALENDAR
