BEGIN:VCALENDAR
VERSION:2.0
PRODID:-//ChamberMaster//Event Calendar 2.0//EN
METHOD:PUBLISH
X-PUBLISHED-TTL:P3D
REFRESH-INTERVAL:P3D
CALSCALE:GREGORIAN
BEGIN:VEVENT
DTSTART:20190822T213000Z
DTEND:20190822T233000Z
X-MICROSOFT-CDO-ALLDAYEVENT:FALSE
SUMMARY:Take It In\, Take It Home
DESCRIPTION:Join Oak Pointe of Neosho for an exclusive tour of Oak Pointe and take home a delicious chef-prepared meal on them! \n\n\n\nTour participation required to receive offer. Limited to four meals per person or company. \n\n\n\nClick Link Below to Register. \n\n\n\nhttps://www.eventbrite.com/e/take-it-in-take-it-home-oak-pointe-of-neosho-open-house-and-tour-tickets-66487795787
X-ALT-DESC;FMTTYPE=text/html:<span style="color: rgb(29\, 33\, 41)\; font-family: Helvetica\, Arial\, sans-serif\; font-size: 14px\; white-space: pre-wrap\;">Join Oak Pointe of Neosho for an exclusive tour of Oak Pointe and take home a delicious chef-prepared meal on them! </span><br style="color: rgb(29\, 33\, 41)\; font-family: Helvetica\, Arial\, sans-serif\; font-size: 14px\; white-space: pre-wrap\;" />\n<br style="color: rgb(29\, 33\, 41)\; font-family: Helvetica\, Arial\, sans-serif\; font-size: 14px\; white-space: pre-wrap\;" />\n<span style="color: rgb(29\, 33\, 41)\; font-family: Helvetica\, Arial\, sans-serif\; font-size: 14px\; white-space: pre-wrap\;">Tour participation required to receive offer. Limited to four meals per person or company. </span><br style="color: rgb(29\, 33\, 41)\; font-family: Helvetica\, Arial\, sans-serif\; font-size: 14px\; white-space: pre-wrap\;" />\n<br style="color: rgb(29\, 33\, 41)\; font-family: Helvetica\, Arial\, sans-serif\; font-size: 14px\; white-space: pre-wrap\;" />\n<span style="color: rgb(29\, 33\, 41)\; font-family: Helvetica\, Arial\, sans-serif\; font-size: 14px\; white-space: pre-wrap\;">Click Link Below to Register. </span><br style="color: rgb(29\, 33\, 41)\; font-family: Helvetica\, Arial\, sans-serif\; font-size: 14px\; white-space: pre-wrap\;" />\n<br style="color: rgb(29\, 33\, 41)\; font-family: Helvetica\, Arial\, sans-serif\; font-size: 14px\; white-space: pre-wrap\;" />\n<a data-lynx-mode="hover" data-lynx-uri="https://l.facebook.com/l.php?u=https%3A%2F%2Fwww.eventbrite.com%2Fe%2Ftake-it-in-take-it-home-oak-pointe-of-neosho-open-house-and-tour-tickets-66487795787%3Ffbclid%3DIwAR17AnKPRRlgyGRByWZMfB5rT659sbkyk6W0ao2ImpeP8QDmiPI-pCPX-aY&amp\;h=AT2lLKlrHljePn8sbV9rjHA0UqOjfAHqbLKSFmEwnQCvMz54CBA9ChaKy34SOwF6phYSDoAFu-9qm2aHVP7-1As3h6Pk8_1lA9NEKUb_byNiTge0fxSXGCqmtK8iAFvXpQ" href="https://www.eventbrite.com/e/take-it-in-take-it-home-oak-pointe-of-neosho-open-house-and-tour-tickets-66487795787?fbclid=IwAR17AnKPRRlgyGRByWZMfB5rT659sbkyk6W0ao2ImpeP8QDmiPI-pCPX-aY" rel="nofollow noopener" style="color: rgb(56\, 88\, 152)\; cursor: pointer\; text-decoration-line: none\; font-family: Helvetica\, Arial\, sans-serif\; font-size: 14px\; white-space: pre-wrap\;" target="_blank">https://www.eventbrite.com/e/take-it-in-take-it-home-oak-pointe-of-neosho-open-house-and-tour-tickets-66487795787</a>
LOCATION:Oak Pointe of Neosho 2601 Oak Ridge Extension Neosho\, Missouri 64850
UID:e.2144.2690
SEQUENCE:3
DTSTAMP:20260421T084911Z
URL:https://neoshocc.com/events/details/take-it-in-take-it-home-2690
END:VEVENT

END:VCALENDAR
