BEGIN:VCALENDAR
VERSION:2.0
PRODID:-//ChamberMaster//Event Calendar 2.0//EN
METHOD:PUBLISH
X-PUBLISHED-TTL:P3D
REFRESH-INTERVAL:P3D
CALSCALE:GREGORIAN
BEGIN:VEVENT
DTSTART:20210605T150000Z
DTEND:20210605T170000Z
X-MICROSOFT-CDO-ALLDAYEVENT:FALSE
SUMMARY:Tails and Tales - Summer Reading Program
DESCRIPTION:Neosho Newton County Library Presents\n\nTails and Tales - Summer Reading Program Kickoff!\n\nPrizes\, Games\, Giveaways\, and More at the Neosho Library
X-ALT-DESC;FMTTYPE=text/html:Neosho Newton County Library Presents<br />\nTails and Tales - Summer Reading Program Kickoff!<br />\nPrizes\, Games\, Giveaways\, and More at the Neosho Library
LOCATION:Neosho Newton County Library
UID:e.2144.7607
SEQUENCE:3
DTSTAMP:20260423T143854Z
URL:https://neoshocc.com/events/details/tails-and-tales-summer-reading-program-7607
END:VEVENT

END:VCALENDAR
