BEGIN:VCALENDAR
VERSION:2.0
PRODID:-//ChamberMaster//Event Calendar 2.0//EN
METHOD:PUBLISH
X-PUBLISHED-TTL:P3D
REFRESH-INTERVAL:P3D
CALSCALE:GREGORIAN
BEGIN:VEVENT
DTSTART:20150221T003000Z
DTEND:20150221T023000Z
X-MICROSOFT-CDO-ALLDAYEVENT:FALSE
SUMMARY:"Sweetheart" Spaghetti Dinner and Dessert Auction
DESCRIPTION:The Gospel Lighthouse youth cordially invite the public to attend a spaghetti dinner and dessert auction. All proceeds go toward youth activities and an upcoming Acquire the Fire youth trip.
X-ALT-DESC;FMTTYPE=text/html:The Gospel Lighthouse youth cordially invite the public to attend a spaghetti dinner and dessert auction. All proceeds go toward youth activities and an upcoming Acquire the Fire youth trip.
LOCATION:The Lampo Building
UID:e.2144.115
SEQUENCE:3
DTSTAMP:20260422T073457Z
URL:https://neoshocc.com/events/details/sweetheart-spaghetti-dinner-and-dessert-auction-02-20-2015-115
END:VEVENT

END:VCALENDAR
