BEGIN:VCALENDAR
VERSION:2.0
PRODID:-//ChamberMaster//Event Calendar 2.0//EN
METHOD:PUBLISH
X-PUBLISHED-TTL:P3D
REFRESH-INTERVAL:P3D
CALSCALE:GREGORIAN
BEGIN:VEVENT
DTSTART:20260315T180000Z
DTEND:20260315T190000Z
X-MICROSOFT-CDO-ALLDAYEVENT:FALSE
SUMMARY:Sweet Potato Savvy
DESCRIPTION:Discover the possibilities of the sweet potato with this lab demonstration of some of George Washington Carver's recipes for sweet potato starch\, flour\, and mock coconut.
X-ALT-DESC;FMTTYPE=text/html:<span style="color:rgb(0\, 0\, 0)\; font-family:arial\,helvetica\,sans-serif\,serif\,emojifont\; font-size:18.6667px">Discover the possibilities of the sweet potato with this lab demonstration of some of George Washington Carver&#39\;s recipes for sweet potato starch\, flour\, and mock coconut.</span>
LOCATION:George Washington Carver National Monument 5646 Carver Rd Diamond\, MO. 64840
UID:e.2144.18869
SEQUENCE:3
DTSTAMP:20260421T162928Z
URL:https://neoshocc.com/events/details/sweet-potato-savvy-03-15-2026-18869
END:VEVENT

END:VCALENDAR
