BEGIN:VCALENDAR
VERSION:2.0
PRODID:-//ChamberMaster//Event Calendar 2.0//EN
METHOD:PUBLISH
X-PUBLISHED-TTL:P3D
REFRESH-INTERVAL:P3D
CALSCALE:GREGORIAN
BEGIN:VEVENT
DTSTART:20260305T190000Z
DTEND:20260719T045500Z
X-MICROSOFT-CDO-ALLDAYEVENT:FALSE
SUMMARY:Summer Reading Program Sponsorship
DESCRIPTION:Become a Summer Reading Sponsor at the Neosho Newton County Library!\n\n\n\nThis summer\, young readers will dig into adventure- and you can help uncover their success! For just $30\, you can sponsor one child in our Summer Reading Program.\n\n\n\nYour Sponsorship provides:\n\nSummer Reading T-shirts\n\nCraft & Activity supplies\n\nReading Log Prizes\n\nFinal Celebration Prize\n\n\n\nThat's one fully sponsored reader-ready to explore\, discover\, and grow!\n\n\n\nLeave Your Mark in the Fossil Record!\n\n\n\nYou may:\n\nRemain Anonymous\n\nOR\n\nBe recognized on our Summer Reading Sponsor Wall\n\n\n\nEither way\, you're helping plant seeds that grow into lifelong readers.\n\n\n\nHelp Us Dig Up a Summer of Stories!\n\n\n\nTo sponsor a reader\, contact: Pam Harrison\n\n417-451-4231\n\next. 103 Neosho Newton County Library\n\n\n\nScan the QR Code on our poster to pay online.\n\n\n\nLet's make this an unforgettable summer for our young readers!
X-ALT-DESC;FMTTYPE=text/html:Become a Summer Reading Sponsor at the Neosho Newton County Library!<br />\n<br />\nThis summer\, young readers will dig into adventure- and you can help uncover their success! For just $30\, you can sponsor one child in our Summer Reading Program.<br />\n<br />\nYour Sponsorship provides:<br />\nSummer Reading T-shirts<br />\nCraft &amp\; Activity supplies<br />\nReading Log Prizes<br />\nFinal Celebration Prize<br />\n<br />\nThat&rsquo\;s one fully sponsored reader-ready to explore\, discover\, and grow!<br />\n<br />\nLeave Your Mark in the Fossil Record!<br />\n<br />\nYou may:<br />\nRemain Anonymous<br />\nOR<br />\nBe recognized on our Summer Reading Sponsor Wall<br />\n<br />\nEither way\, you&rsquo\;re helping plant seeds that grow into lifelong readers.<br />\n<br />\nHelp Us Dig Up a Summer of Stories!<br />\n<br />\nTo sponsor a reader\, contact: Pam Harrison<br />\n417-451-4231<br />\next. 103 Neosho Newton County Library<br />\n<br />\nScan the QR Code on our poster to pay online.<br />\n<br />\nLet&#39\;s make this an unforgettable summer for our young readers!
LOCATION:201 West Spring Street Neosho\, MO 64850
UID:e.2144.19238
SEQUENCE:3
DTSTAMP:20260421T011906Z
URL:https://neoshocc.com/events/details/summer-reading-program-sponsorship-19238
END:VEVENT

END:VCALENDAR
