BEGIN:VCALENDAR
VERSION:2.0
PRODID:-//ChamberMaster//Event Calendar 2.0//EN
METHOD:PUBLISH
X-PUBLISHED-TTL:P3D
REFRESH-INTERVAL:P3D
CALSCALE:GREGORIAN
BEGIN:VEVENT
DTSTART:20160521T150000Z
DTEND:20160521T170000Z
X-MICROSOFT-CDO-ALLDAYEVENT:FALSE
SUMMARY:Summer Reading Program Kick-off/Neosho Newton County Library Parking lot
DESCRIPTION:All ages are invited to stop by the Neosho Newton County Library as we kick off the Summer Reading Program on Saturday\, May 21st from 10am to Noon on the Library Parkling lot.  Booths\, Free Food & Fun Games\, Open to all ages.
X-ALT-DESC;FMTTYPE=text/html:All ages are invited to stop by the Neosho Newton County Library as we kick off the Summer Reading Program on Saturday\, May 21st from 10am to Noon on the Library Parkling lot.&nbsp\; Booths\, Free Food &amp\; Fun Games\, Open to all ages.
LOCATION:Neosho Newton County Library Parking Lot
UID:e.2144.1646
SEQUENCE:3
DTSTAMP:20260421T085217Z
URL:https://neoshocc.com/events/details/summer-reading-program-kick-off-neosho-newton-county-library-parking-lot-05-21-2016-1646
END:VEVENT

END:VCALENDAR
