BEGIN:VCALENDAR
VERSION:2.0
PRODID:-//ChamberMaster//Event Calendar 2.0//EN
METHOD:PUBLISH
X-PUBLISHED-TTL:P3D
REFRESH-INTERVAL:P3D
CALSCALE:GREGORIAN
BEGIN:VEVENT
DTSTART:20210719T150000Z
DTEND:20210725T010000Z
X-MICROSOFT-CDO-ALLDAYEVENT:FALSE
SUMMARY:Stuff The Shoe Box
DESCRIPTION:We are collecting school supplies for Bright Futures! What is needed is backpacks\, composition note books\, expo markers\, kids scissors\, 1 inch 3-Ring binders\, 2 inch 3-Ring binders\, tab dividers. Additional items shoes\, socks\, spiral notebooks\, colored pencils\, washable markers\, glue sticks\, erasers\, rulers and folders.
X-ALT-DESC;FMTTYPE=text/html:We are collecting school supplies for Bright Futures! What is needed is backpacks\, composition note books\, expo markers\, kids scissors\, 1 inch 3-Ring binders\, 2 inch 3-Ring binders\, tab dividers. Additional items shoes\, socks\, spiral notebooks\, colored pencils\, washable markers\, glue sticks\, erasers\, rulers and folders.
LOCATION:Shoe Sensation 1166 S. Neosho Blvd Neosho\, MO 64850
UID:e.2144.7692
SEQUENCE:3
DTSTAMP:20260423T161750Z
URL:https://neoshocc.com/events/details/stuff-the-shoe-box-7692
END:VEVENT

END:VCALENDAR
