BEGIN:VCALENDAR
VERSION:2.0
PRODID:-//ChamberMaster//Event Calendar 2.0//EN
METHOD:PUBLISH
X-PUBLISHED-TTL:P3D
REFRESH-INTERVAL:P3D
CALSCALE:GREGORIAN
BEGIN:VEVENT
DTSTART;VALUE=DATE:20260521
DTEND;VALUE=DATE:20260522
TRANSP:TRANSPARENT
X-MICROSOFT-CDO-ALLDAYEVENT:TRUE
SUMMARY:Spring 2026 Golf Scramble
DESCRIPTION:Join us for our Spring 2026 Golf Scramble at Spring Valley Golf Club on Thursday\, May 21. This four-man scramble features two flights at 8:00 AM and 1:30 PM and requires at least one Chamber member per team. Players can enjoy breakfast and lunch\, along with fun on-course games including the Casino Hole\, Launch Hole\, Heckle Hole\, and Mystery Envelope. Registration is open now gather your team and join us for a great day on the course.
X-ALT-DESC;FMTTYPE=text/html:Join us for our Spring 2026 Golf Scramble at <span class="hover:entity-accent entity-underline inline cursor-pointer align-baseline">Spring Valley Golf Club</span> on Thursday\, May 21. This four-man scramble features two flights at 8:00 AM and 1:30 PM and requires at least one Chamber member per team. Players can enjoy breakfast and lunch\, along with fun on-course games including the Casino Hole\, Launch Hole\, Heckle Hole\, and Mystery Envelope. Registration is open now&mdash\;gather your team and join us for a great day on the course.
LOCATION:Spring Valley Golf Club (formerly Neosho Municipal Golf Course)
UID:e.2144.19210
SEQUENCE:3
DTSTAMP:20260420T063713Z
URL:https://neoshocc.com/events/details/spring-golf-scramble-19210
END:VEVENT

END:VCALENDAR
