BEGIN:VCALENDAR
VERSION:2.0
PRODID:-//ChamberMaster//Event Calendar 2.0//EN
METHOD:PUBLISH
X-PUBLISHED-TTL:P3D
REFRESH-INTERVAL:P3D
CALSCALE:GREGORIAN
BEGIN:VEVENT
DTSTART:20150205T223000Z
DTEND:20150206T000000Z
X-MICROSOFT-CDO-ALLDAYEVENT:FALSE
SUMMARY:Special Open House for Chamber Members - 217 South Lafayette St.
DESCRIPTION:You are Invited to stop by 217 South Lafayette for a Special Open House for Chamber Members.  Bring your business card to be included in a drawing for a gift certificate to a local restaurant.  Refreshments will be served and tours will be given for this beautiful 4 bedroom\, 3.5 bath home with 4 door garage.  Hosted by Vickie Barnes\, GRI.
X-ALT-DESC;FMTTYPE=text/html:You are Invited to stop by 217 South Lafayette for a Special Open House for Chamber Members.&nbsp\; Bring your business card to be included in a drawing for a gift certificate to a local restaurant.&nbsp\; Refreshments will be served and tours will be given for this beautiful 4 bedroom\, 3.5 bath home with 4 door garage.&nbsp\; Hosted by Vickie Barnes\, GRI.
LOCATION:217 S. Lafayette Neosho\, MO 64850
UID:e.2144.119
SEQUENCE:3
DTSTAMP:20260422T073521Z
URL:https://neoshocc.com/events/details/special-open-house-for-chamber-members-217-south-lafayette-st-02-05-2015-119
END:VEVENT

END:VCALENDAR
