BEGIN:VCALENDAR
VERSION:2.0
PRODID:-//ChamberMaster//Event Calendar 2.0//EN
METHOD:PUBLISH
X-PUBLISHED-TTL:P3D
REFRESH-INTERVAL:P3D
CALSCALE:GREGORIAN
BEGIN:VEVENT
DTSTART:20160228T000000Z
DTEND:20160228T030000Z
X-MICROSOFT-CDO-ALLDAYEVENT:FALSE
SUMMARY:Spaghetti Dinner and Dessert Auction
DESCRIPTION:Free Spaghetti Dinner and Dessert Auction at the Lampo Building\, 500 E. Spring\, Neosho. Everyone is invited to come support the Gospel Lighthouse youth and enjoy great food\, homemade desserts\, and fun "The Price Is Right" game activities.
X-ALT-DESC;FMTTYPE=text/html:Free Spaghetti Dinner and Dessert Auction at the Lampo Building\, 500 E. Spring\, Neosho. Everyone is invited to come support the Gospel Lighthouse youth and enjoy great food\, homemade desserts\, and fun &quot\;The Price Is Right&quot\; game activities.
LOCATION:Lampo Building\, 500 E. Spring\, Neosho
UID:e.2144.1595
SEQUENCE:3
DTSTAMP:20260421T130236Z
URL:https://neoshocc.com/events/details/spaghetti-dinner-and-dessert-auction-02-27-2016-1595
END:VEVENT

END:VCALENDAR
