BEGIN:VCALENDAR
VERSION:2.0
PRODID:-//ChamberMaster//Event Calendar 2.0//EN
METHOD:PUBLISH
X-PUBLISHED-TTL:P3D
REFRESH-INTERVAL:P3D
CALSCALE:GREGORIAN
BEGIN:VEVENT
DTSTART:20141210T003000Z
DTEND:20141210T020000Z
X-MICROSOFT-CDO-ALLDAYEVENT:FALSE
SUMMARY:Southwest Pachyderms - Christmas Party
DESCRIPTION:The Southwest Pachyderms will be having a Christmas Party on Tuesday\, December 9th at 6:30pm at the Lampo Building.\n\nAll are welcome
X-ALT-DESC;FMTTYPE=text/html:The Southwest Pachyderms will be having a Christmas Party on Tuesday\, December 9th at 6:30pm at the Lampo Building.<br />\nAll are welcome
LOCATION:Lampo Building
UID:e.2144.92
SEQUENCE:3
DTSTAMP:20260422T120705Z
URL:https://neoshocc.com/events/details/southwest-pachyderms-christmas-party-12-09-2014-92
END:VEVENT

END:VCALENDAR
