BEGIN:VCALENDAR
VERSION:2.0
PRODID:-//ChamberMaster//Event Calendar 2.0//EN
METHOD:PUBLISH
X-PUBLISHED-TTL:P3D
REFRESH-INTERVAL:P3D
CALSCALE:GREGORIAN
BEGIN:VEVENT
DTSTART:20150825T163000Z
DTEND:20150825T173000Z
X-MICROSOFT-CDO-ALLDAYEVENT:FALSE
SUMMARY:Social Security Lunch & Learn
DESCRIPTION:An informational meeting about Social Security benefit options and how they may influence your retirement decisions.
X-ALT-DESC;FMTTYPE=text/html:An informational meeting about Social Security benefit options and how they may influence your retirement decisions.
LOCATION:The Neosho Chamber of Commerce
UID:e.2144.437
SEQUENCE:3
DTSTAMP:20260421T215059Z
URL:https://neoshocc.com/events/details/social-security-lunch-learn-08-25-2015-437
END:VEVENT

END:VCALENDAR
