BEGIN:VCALENDAR
VERSION:2.0
PRODID:-//ChamberMaster//Event Calendar 2.0//EN
METHOD:PUBLISH
X-PUBLISHED-TTL:P3D
REFRESH-INTERVAL:P3D
CALSCALE:GREGORIAN
BEGIN:VEVENT
DTSTART:20150427T130000Z
DTEND:20150427T220000Z
X-MICROSOFT-CDO-ALLDAYEVENT:FALSE
SUMMARY:Six Sigma Improvement GREEN BELT Course
DESCRIPTION:See website URL for more information. Please register via the link provided.
X-ALT-DESC;FMTTYPE=text/html:See website URL&nbsp\;for more information. Please register via the link provided.
LOCATION:1703 Falcon St.\, Suite E\, Webb City\, MO 64870
UID:e.2144.179
SEQUENCE:3
DTSTAMP:20260422T043458Z
URL:https://neoshocc.com/events/details/six-sigma-improvement-green-belt-course-04-27-2015-179
END:VEVENT

END:VCALENDAR
