BEGIN:VCALENDAR
VERSION:2.0
PRODID:-//ChamberMaster//Event Calendar 2.0//EN
METHOD:PUBLISH
X-PUBLISHED-TTL:P3D
REFRESH-INTERVAL:P3D
CALSCALE:GREGORIAN
BEGIN:VEVENT
DTSTART:20150504T130000Z
DTEND:20150504T220000Z
X-MICROSOFT-CDO-ALLDAYEVENT:FALSE
SUMMARY:Six Sigma Improvement BLACK BELT Course
DESCRIPTION:This training's specific dates are May 4th through May 8th\, & May 26th\, through May 29th\, & then June 15th through 19th. Each session is from 8 a.m. to 5 p.m. with lunch included. The participant must attend all sessions for completion. See website URL for specifics of course. Upon request\, an outline may be provided. Please register via the link provided.
X-ALT-DESC;FMTTYPE=text/html:This training&#39\;s specific dates are May 4th through May 8th\, &amp\;&nbsp\;May 26th\, through May 29th\, &amp\; then June 15th through 19th. Each session is from 8 a.m. to 5 p.m. with lunch included. The participant must attend all sessions for completion. See website URL for specifics of course. Upon request\, an outline may be provided. Please register via the link provided.
LOCATION:1703 Falcon St.\, Suite E\, Webb City\, MO 64870
UID:e.2144.184
SEQUENCE:3
DTSTAMP:20260422T025955Z
URL:https://neoshocc.com/events/details/six-sigma-improvement-black-belt-course-05-04-2015-184
END:VEVENT

END:VCALENDAR
