BEGIN:VCALENDAR
VERSION:2.0
PRODID:-//ChamberMaster//Event Calendar 2.0//EN
METHOD:PUBLISH
X-PUBLISHED-TTL:P3D
REFRESH-INTERVAL:P3D
CALSCALE:GREGORIAN
BEGIN:VEVENT
DTSTART:20141004T130000Z
DTEND:20141004T190000Z
X-MICROSOFT-CDO-ALLDAYEVENT:FALSE
SUMMARY:Sidewalk Chalk Art Contest
DESCRIPTION:Call to Artists!! $1000 in Cash Prizes!  Sponsored by Great Southern Bank!\n\n3 Age Categories: 6 to 10 yrs (FREE)\, 11 to 15 yrs (FREE)\, 16 & Over $10.00\n\nat the Neosho Civic Center
X-ALT-DESC;FMTTYPE=text/html:Call to Artists!! $1000 in Cash Prizes!&nbsp\; Sponsored by Great Southern Bank!<br />\n3 Age Categories: 6 to 10 yrs (FREE)\, 11 to 15 yrs (FREE)\, 16 &amp\; Over $10.00<br />\nat the Neosho Civic Center
LOCATION:The Neosho Civic Center
UID:e.2144.48
SEQUENCE:3
DTSTAMP:20260422T132911Z
URL:https://neoshocc.com/events/details/sidewalk-chalk-art-contest-10-04-2014-48
END:VEVENT

END:VCALENDAR
