BEGIN:VCALENDAR
VERSION:2.0
PRODID:-//ChamberMaster//Event Calendar 2.0//EN
METHOD:PUBLISH
X-PUBLISHED-TTL:P3D
REFRESH-INTERVAL:P3D
CALSCALE:GREGORIAN
BEGIN:VEVENT
DTSTART;VALUE=DATE:20190803
DTEND;VALUE=DATE:20190804
TRANSP:TRANSPARENT
X-MICROSOFT-CDO-ALLDAYEVENT:TRUE
SUMMARY:Shawna Stovall Children's Back-to-School Pow Wow
DESCRIPTION:The Eastern Shawnee's present the Shawna Stovall Children's Back-to-School Pow Wow on Saturday\, August 3rd! Food\, animal rides\, arts\, crafts\, games and more!
X-ALT-DESC;FMTTYPE=text/html:The Eastern Shawnee&#39\;s present the Shawna Stovall Children&#39\;s Back-to-School Pow Wow on Saturday\, August 3rd! Food\, animal rides\, arts\, crafts\, games and more!
LOCATION:Eastern Shawnee Tribe of Oklahoma Pow-Wow Grounds 12755 S. 705 Road Wyandotte\, OK 74370
UID:e.2144.2662
SEQUENCE:3
DTSTAMP:20260421T090243Z
URL:https://neoshocc.com/events/details/shawna-stovall-children-s-back-to-school-pow-wow-2662
END:VEVENT

END:VCALENDAR
